BEGIN:VCALENDAR
VERSION:2.0
PRODID:-//KSG - ECPv4.9.1.1//NONSGML v1.0//EN
CALSCALE:GREGORIAN
METHOD:PUBLISH
X-WR-CALNAME:KSG
X-ORIGINAL-URL:https://wp.ksg-leipzig.de
X-WR-CALDESC:Veranstaltungen im KSG
BEGIN:VEVENT
DTSTART;TZID=UTC+2:20260529T183000
DTEND;TZID=UTC+2:20260529T230000
DTSTAMP:20260424T182255
CREATED:20260421T102425Z
LAST-MODIFIED:20260421T102425Z
UID:9109-1780079400-1780095600@wp.ksg-leipzig.de
SUMMARY:Ökumenischer Ballabend
DESCRIPTION:
URL:https://wp.ksg-leipzig.de/event/oekumenischer-ballabend/
END:VEVENT
END:VCALENDAR