BEGIN:VCALENDAR
VERSION:2.0
PRODID:-//KSG - ECPv4.9.1.1//NONSGML v1.0//EN
CALSCALE:GREGORIAN
METHOD:PUBLISH
X-WR-CALNAME:KSG
X-ORIGINAL-URL:https://wp.ksg-leipzig.de
X-WR-CALDESC:Veranstaltungen im KSG
BEGIN:VEVENT
DTSTART;TZID=UTC+2:20260519T193000
DTEND;TZID=UTC+2:20260519T210000
DTSTAMP:20260424T105316
CREATED:20260418T114125Z
LAST-MODIFIED:20260418T114125Z
UID:9077-1779219000-1779224400@wp.ksg-leipzig.de
SUMMARY:Chorprobe
DESCRIPTION:
URL:https://wp.ksg-leipzig.de/event/chorprobe-5/2026-05-19/
LOCATION:Alojs-Andritzki-Kapelle\, Harkortstraße 19\, Leipzig\, Sachsen\, 04107\, Germany
GEO:51.3319441;12.3716368
X-APPLE-STRUCTURED-LOCATION;VALUE=URI;X-ADDRESS=Alojs-Andritzki-Kapelle Harkortstraße 19 Leipzig Sachsen 04107 Germany;X-APPLE-RADIUS=500;X-TITLE=Harkortstraße 19:geo:12.3716368,51.3319441
END:VEVENT
END:VCALENDAR